BEGIN:VCALENDAR
VERSION:2.0
PRODID:-//JDI - ECPv6.15.20//NONSGML v1.0//EN
CALSCALE:GREGORIAN
METHOD:PUBLISH
X-WR-CALNAME:JDI
X-ORIGINAL-URL:https://www.janedoe.org
X-WR-CALDESC:Events for JDI
REFRESH-INTERVAL;VALUE=DURATION:PT1H
X-Robots-Tag:noindex
X-PUBLISHED-TTL:PT1H
BEGIN:VTIMEZONE
TZID:America/New_York
BEGIN:DAYLIGHT
TZOFFSETFROM:-0500
TZOFFSETTO:-0400
TZNAME:EDT
DTSTART:20210314T070000
END:DAYLIGHT
BEGIN:STANDARD
TZOFFSETFROM:-0400
TZOFFSETTO:-0500
TZNAME:EST
DTSTART:20211107T060000
END:STANDARD
BEGIN:DAYLIGHT
TZOFFSETFROM:-0500
TZOFFSETTO:-0400
TZNAME:EDT
DTSTART:20220313T070000
END:DAYLIGHT
BEGIN:STANDARD
TZOFFSETFROM:-0400
TZOFFSETTO:-0500
TZNAME:EST
DTSTART:20221106T060000
END:STANDARD
BEGIN:DAYLIGHT
TZOFFSETFROM:-0500
TZOFFSETTO:-0400
TZNAME:EDT
DTSTART:20230312T070000
END:DAYLIGHT
BEGIN:STANDARD
TZOFFSETFROM:-0400
TZOFFSETTO:-0500
TZNAME:EST
DTSTART:20231105T060000
END:STANDARD
END:VTIMEZONE
BEGIN:VEVENT
DTSTART;TZID=America/New_York:20221023T110000
DTEND;TZID=America/New_York:20221023T160000
DTSTAMP:20260421T055346
CREATED:20220714T192040Z
LAST-MODIFIED:20220714T192040Z
UID:37943-1666522800-1666540800@www.janedoe.org
SUMMARY:Our Deaf Survivors Center Inc. Beacon of Light & Fireflies Gala
DESCRIPTION:Our Deaf Survivors Center Inc. is hosting the Beacon of Light & Fireflies Gala with Keynote Speaker Jimel Wright and Mistress of Ceremonies Keri Darling. Join us and enjoy the brunch buffet\, live and silent auctions\, raffles\, and drumming entertainment!
URL:https://www.janedoe.org/event/our-deaf-survivors-center-inc-beacon-of-light-fireflies-gala/
LOCATION:Sturbridge Host Hotel & Conference Center\, 366 Main Street\, Sturbridge\, MA\, 01566\, United States
CATEGORIES:Community Events
ATTACH;FMTTYPE=image/jpeg:https://www.janedoe.org/wp-content/uploads/ODSC-GALA-2022-FLYER-3.17.2022-3.jpg
END:VEVENT
BEGIN:VEVENT
DTSTART;TZID=America/New_York:20221023T160000
DTEND;TZID=America/New_York:20221023T160000
DTSTAMP:20260421T055346
CREATED:20220906T171052Z
LAST-MODIFIED:20220906T171052Z
UID:38071-1666540800-1666540800@www.janedoe.org
SUMMARY:MAAV's 27th Annual Walk & Candlelight Vigil
DESCRIPTION:The Melrose Alliance Against Violence is inviting you to their 27th Anniversary Walk & Candlelight Vigil! Students will be singing “A Beautiful Noise” by Alicia Keys and Brandi Carlile to honor the victims of domestic violence homicide and encourage everyone to support safe and healthy relationships. This event is MAAV’s largest annual fundraiser and contributions will be used to fund services to prevent bullying\, teen dating abuse\, domestic violence\, and sexual assault. Save the date!
URL:https://www.janedoe.org/event/maavs-27th-annual-walk-candlelight-vigil/
LOCATION:Melrose Middle School\, 350 Lynn Fells Parkway\, Melrose\, MA\, 02176\, United States
CATEGORIES:Community Events
ATTACH;FMTTYPE=image/jpeg:https://www.janedoe.org/wp-content/uploads/2022-Walk-Flyer-1.jpg
END:VEVENT
END:VCALENDAR