BEGIN:VCALENDAR
VERSION:2.0
PRODID:-//JDI - ECPv6.15.20//NONSGML v1.0//EN
CALSCALE:GREGORIAN
METHOD:PUBLISH
X-WR-CALNAME:JDI
X-ORIGINAL-URL:https://www.janedoe.org
X-WR-CALDESC:Events for JDI
REFRESH-INTERVAL;VALUE=DURATION:PT1H
X-Robots-Tag:noindex
X-PUBLISHED-TTL:PT1H
BEGIN:VTIMEZONE
TZID:America/New_York
BEGIN:DAYLIGHT
TZOFFSETFROM:-0500
TZOFFSETTO:-0400
TZNAME:EDT
DTSTART:20200308T070000
END:DAYLIGHT
BEGIN:STANDARD
TZOFFSETFROM:-0400
TZOFFSETTO:-0500
TZNAME:EST
DTSTART:20201101T060000
END:STANDARD
BEGIN:DAYLIGHT
TZOFFSETFROM:-0500
TZOFFSETTO:-0400
TZNAME:EDT
DTSTART:20210314T070000
END:DAYLIGHT
BEGIN:STANDARD
TZOFFSETFROM:-0400
TZOFFSETTO:-0500
TZNAME:EST
DTSTART:20211107T060000
END:STANDARD
BEGIN:DAYLIGHT
TZOFFSETFROM:-0500
TZOFFSETTO:-0400
TZNAME:EDT
DTSTART:20220313T070000
END:DAYLIGHT
BEGIN:STANDARD
TZOFFSETFROM:-0400
TZOFFSETTO:-0500
TZNAME:EST
DTSTART:20221106T060000
END:STANDARD
END:VTIMEZONE
BEGIN:VEVENT
DTSTART;TZID=America/New_York:20211006T170000
DTEND;TZID=America/New_York:20211006T203000
DTSTAMP:20260423T014031
CREATED:20211006T123328Z
LAST-MODIFIED:20211006T123328Z
UID:35848-1633539600-1633552200@www.janedoe.org
SUMMARY:DOVE Working with Survivors and Risk Assessment & Safety Planning
DESCRIPTION:Online Virtual Session \nWorking with Survivors runs from 5pm to 6:30pm and Risk Assessment & Safety Planning runs from 6:45pm to 8:30pm \nRegister Online Here
URL:https://www.janedoe.org/event/dove-working-with-survivors-and-risk-assessment-safety-planning/
LOCATION:Virtual
CATEGORIES:Community Events
END:VEVENT
BEGIN:VEVENT
DTSTART;TZID=America/New_York:20211005T190000
DTEND;TZID=America/New_York:20211005T213000
DTSTAMP:20260423T014031
CREATED:20211001T131401Z
LAST-MODIFIED:20211001T205950Z
UID:35644-1633460400-1633469400@www.janedoe.org
SUMMARY:Shine a Light Vigil
DESCRIPTION:The Sudbury Wayland Lincoln Domestic Violence Roundtable is partnering with the  First Parish in Wayland and the  Lauren Dunne Astley Memorial Fund to  #ShineALight on domestic violence.\n\n\nWalks will commence from several points in the town arriving at First Parish in Wayland\, Unitarian Universalist\, 225 Boston Post Road\, Wayland for the at 7.00 pm.\n\n\nThis event will also be live streamed. To register for the online stream\, please visit:\nhttps://tinyurl.com/2021ShineaLight\n\nLocations and start times for the walks will be posted soon.
URL:https://www.janedoe.org/event/join-reach-at-shine-a-light-vigil/
LOCATION:First Parish in Wayland\, Unitarian Universalist\, 225 Boston Post Road\, Wayland\, MA\, 01778\, United States
CATEGORIES:Community Events
ATTACH;FMTTYPE=image/jpeg:https://www.janedoe.org/wp-content/uploads/LaurenDunneAstleyWEB.jpg
END:VEVENT
BEGIN:VEVENT
DTSTART;TZID=America/New_York:20211005T163000
DTEND;TZID=America/New_York:20211005T183000
DTSTAMP:20260423T014031
CREATED:20211004T160219Z
LAST-MODIFIED:20211004T160219Z
UID:35807-1633451400-1633458600@www.janedoe.org
SUMMARY:Worcester Candlelight Vigil
DESCRIPTION:Join YWCA Central Massachusetts and the City of Worcester on Tuesday\, October 5\, 2021 at 4:30 p.m. outside City Hall as we honor those who’ve lost their lives to domestic violence in our community during a special vigil and Proclamation reading.  The event will conclude with the raising of the purple flag. 
URL:https://www.janedoe.org/event/worcester-candlelight-vigil/
LOCATION:Worcester City Hall\, 455 Main St\, Worcester\, MA\, 01608\, United States
END:VEVENT
BEGIN:VEVENT
DTSTART;TZID=America/New_York:20211004T203000
DTEND;TZID=America/New_York:20211004T203000
DTSTAMP:20260423T014031
CREATED:20211004T160042Z
LAST-MODIFIED:20211004T160042Z
UID:35804-1633379400-1633379400@www.janedoe.org
SUMMARY:Gardner Candlelight Vigil
DESCRIPTION:Join YWCA Central Massachusetts\, Voices of Truth\, and the City of Gardner on Monday\, October 4\, 2021 at 6:30 p.m. outside City Hall as we honor those who’ve lost their lives to domestic violence in our community during a special candlelight vigil and Proclamation reading. 
URL:https://www.janedoe.org/event/gardner-candlelight-vigil/
LOCATION:Gardner City Hall\, 95 Pleasant St\, Gardner\, MA\, 01440\, United States
END:VEVENT
BEGIN:VEVENT
DTSTART;VALUE=DATE:20211004
DTEND;VALUE=DATE:20211102
DTSTAMP:20260423T014031
CREATED:20211004T155900Z
LAST-MODIFIED:20211015T123841Z
UID:35802-1633305600-1635811199@www.janedoe.org
SUMMARY:Traveling Tribute of Remembrance- "Empty Place at the Table"
DESCRIPTION:Empty Place at the Table is a traveling tribute of remembrance that honors those who have lost their lives to domestic violence during the past year in Massachusetts. The names of every victim are inscribed onto each place setting\, a powerful display of the family memories that will be missed.  \nIt will also be available at the Fitchburg City Hall from Monday 10/18 to Friday 10/22.
URL:https://www.janedoe.org/event/traveling-tribute-of-remembrance-empty-place-at-the-table/
LOCATION:YWCA Salem Square Facility\, 1 Salem St\, Worcester\, MA\, 01608\, United States
END:VEVENT
BEGIN:VEVENT
DTSTART;VALUE=DATE:20211004
DTEND;VALUE=DATE:20211030
DTSTAMP:20260423T014031
CREATED:20211001T150340Z
LAST-MODIFIED:20211001T150349Z
UID:35726-1633305600-1635551999@www.janedoe.org
SUMMARY:Check out the Domestic Violence Awareness Month Art Display
DESCRIPTION:Support this full-month event curated by The Second Step designed for Domestic Violence Awareness Month. Walk in from 9am-6pm on weekdays or 9am-5pm/1pm-5pm on Saturdays and Sundays\, respectively at the Newton Free Library.
URL:https://www.janedoe.org/event/check-out-the-domestic-violence-awareness-month-art-display/
LOCATION:Newton Free Library\, 330 Homer St\, Newton\, MA\, 02459\, United States
CATEGORIES:Community Events
ATTACH;FMTTYPE=image/png:https://www.janedoe.org/wp-content/uploads/TSS-DV-MONTH-DISPLAY.png
END:VEVENT
BEGIN:VEVENT
DTSTART;TZID=America/New_York:20211003T080000
DTEND;TZID=America/New_York:20211003T110000
DTSTAMP:20260423T014031
CREATED:20211001T141743Z
LAST-MODIFIED:20211001T144208Z
UID:35691-1633248000-1633258800@www.janedoe.org
SUMMARY:Walk Against Domestic Violence
DESCRIPTION:Join the Jeanne Geiger Crisis Center and their Presenting Sponsor Institution for Savings in their Walk Against Domestic Violence on Sunday\, October 3rd\, 2021 at 8am. Fundraising from this event will go towards the JGCC’s array of programs and services provided to 16 local communities.
URL:https://www.janedoe.org/event/walk-against-domestic-violence/
LOCATION:Waterfront Park\, Newburyport\, 36 Merrimac St\, Newburyport\, MA\, 01950\, United States
CATEGORIES:Community Events
ATTACH;FMTTYPE=image/png:https://www.janedoe.org/wp-content/uploads/events/DVAM_2021/JGCC_Anniversary-Banner_r2_Email-Header_600px-003-1024x683-1.png
END:VEVENT
BEGIN:VEVENT
DTSTART;TZID=America/New_York:20211002T100000
DTEND;TZID=America/New_York:20211002T140000
DTSTAMP:20260423T014031
CREATED:20211001T135745Z
LAST-MODIFIED:20211001T144046Z
UID:35681-1633168800-1633183200@www.janedoe.org
SUMMARY:Walk with Family and Community Resources Inc. for Survivors Safety 2021
DESCRIPTION:The 2021 Walk for Survivors Safety kicks off Saturday\, October 2nd at 10am at the DW Field Park\, Brockton\, MA. Registration begins at 9:30 am on site. Hosted by the organization Family and Community Resources\, Inc.
URL:https://www.janedoe.org/event/walk-with-family-and-community-resources-inc-for-survivors-safety-2021/
LOCATION:DW Field Park\, D W Field E Pkwy\, Brockton\, MA\, 02301\, United States
CATEGORIES:Community Events
ATTACH;FMTTYPE=image/png:https://www.janedoe.org/wp-content/uploads/events/DVAM_2021/Copy-of-countdown.png
END:VEVENT
BEGIN:VEVENT
DTSTART;VALUE=DATE:20211001
DTEND;VALUE=DATE:20211101
DTSTAMP:20260423T014031
CREATED:20211004T155707Z
LAST-MODIFIED:20211004T155707Z
UID:35798-1633046400-1635724799@www.janedoe.org
SUMMARY:Ribbons of Hope
DESCRIPTION:Ribbons of Hope is an interactive\, community-curated display created to provide hope\, inspire\, and empower our community members facing adversity due to domestic violence. Survivors are not alone and have a voice. Messages are curated from our Central Massachusetts community as well as the survivors we work with daily.  \nWrite a short message of hope\, inspiration\, or empowerment for survivors of domestic violence in the community. Messages can be named or anonymous. Submit here: https://forms.gle/UTLzLheeTc67VHTz7\
URL:https://www.janedoe.org/event/ribbons-of-hope/
LOCATION:YWCA Salem Square Facility\, 1 Salem St\, Worcester\, MA\, 01608\, United States
END:VEVENT
END:VCALENDAR