BEGIN:VCALENDAR
VERSION:2.0
PRODID:-//JDI - ECPv6.15.20//NONSGML v1.0//EN
CALSCALE:GREGORIAN
METHOD:PUBLISH
X-WR-CALNAME:JDI
X-ORIGINAL-URL:https://www.janedoe.org
X-WR-CALDESC:Events for JDI
REFRESH-INTERVAL;VALUE=DURATION:PT1H
X-Robots-Tag:noindex
X-PUBLISHED-TTL:PT1H
BEGIN:VTIMEZONE
TZID:America/New_York
BEGIN:DAYLIGHT
TZOFFSETFROM:-0500
TZOFFSETTO:-0400
TZNAME:EDT
DTSTART:20200308T070000
END:DAYLIGHT
BEGIN:STANDARD
TZOFFSETFROM:-0400
TZOFFSETTO:-0500
TZNAME:EST
DTSTART:20201101T060000
END:STANDARD
BEGIN:DAYLIGHT
TZOFFSETFROM:-0500
TZOFFSETTO:-0400
TZNAME:EDT
DTSTART:20210314T070000
END:DAYLIGHT
BEGIN:STANDARD
TZOFFSETFROM:-0400
TZOFFSETTO:-0500
TZNAME:EST
DTSTART:20211107T060000
END:STANDARD
BEGIN:DAYLIGHT
TZOFFSETFROM:-0500
TZOFFSETTO:-0400
TZNAME:EDT
DTSTART:20220313T070000
END:DAYLIGHT
BEGIN:STANDARD
TZOFFSETFROM:-0400
TZOFFSETTO:-0500
TZNAME:EST
DTSTART:20221106T060000
END:STANDARD
END:VTIMEZONE
BEGIN:VEVENT
DTSTART;TZID=America/New_York:20211116T084500
DTEND;TZID=America/New_York:20211116T130000
DTSTAMP:20260420T150913
CREATED:20211022T214926Z
LAST-MODIFIED:20211022T220832Z
UID:36028-1637052300-1637067600@www.janedoe.org
SUMMARY:Training Opportunities: (1) Substance Use Disorder & Impacts for SDV Survivors and (2) Vicarious Trauma
DESCRIPTION:Don’t miss the opportunity to educate yourself on an array of important topics with Independence House\, Inc. Register here \nOverview Part 1: The misuse of opioids is a public health crisis that results in a myriad of devastating social and economic outcomes. The impact of and the correlation between substance use and domestic violence/abuse will be discussed\, as well as basic brain science and the disease model of addiction. Ways to approach and interact with people living with substance use disorder (SUD) and alternative language to reduce stigma in this population will also be presented. \nOverview Part 2: Vicarious trauma\, secondary stress\, compassion fatigue and burnout – all nuanced forms of stress – can affect those in the “helping professions” by virtue of direct exposure to other’s trauma. Learn to identify types of trauma\, symptoms of compassion fatigue\, components of the wellness triangle and how you can address negative and challenging changes in yourself that can result from continuous exposure to traumatic events of people whom you help.
URL:https://www.janedoe.org/event/training-opportunities-1-substance-use-disorder-impacts-for-sdv-survivors-and-2-vicarious-trauma/
LOCATION:Virtual
CATEGORIES:Community Events
END:VEVENT
BEGIN:VEVENT
DTSTART;TZID=America/New_York:20211113T160000
DTEND;TZID=America/New_York:20211113T173000
DTSTAMP:20260420T150913
CREATED:20211029T183339Z
LAST-MODIFIED:20211029T183339Z
UID:36171-1636819200-1636824600@www.janedoe.org
SUMMARY:Telling Is Healing Film
DESCRIPTION:Come in person or join in virtually to see Telling Is Healing – a 35-minute filmed conversation between Donna Jenson of Time to Tell and her colleague Suzanne Beck\, a non-survivor. The film digs deep into the discoveries they share between one survivor and one ally as they navigated the delicate path of disclosure to understanding and support. They use excerpts from a reading of Jenson’s one-woman play\, What She Knows\, and book\, Healing My Life\, accompanied by master guitarist John Sheldon\, to bring the audience along with her on her journey from victim to survivor to activist. \nView live stream here
URL:https://www.janedoe.org/event/telling-is-healing-film/
LOCATION:Noho Center for the Arts\, 33 Hawley St\, Northampton\, MA\, United States
ATTACH;FMTTYPE=image/png:https://www.janedoe.org/wp-content/uploads/ScreenShot2021-10-08at7.21.03PM.png
END:VEVENT
BEGIN:VEVENT
DTSTART;TZID=America/New_York:20211104T180000
DTEND;TZID=America/New_York:20211104T200000
DTSTAMP:20260420T150913
CREATED:20211102T142959Z
LAST-MODIFIED:20211102T142959Z
UID:36176-1636048800-1636056000@www.janedoe.org
SUMMARY:HAWC Virtual Policy Panel
DESCRIPTION:Please join us for an upcoming virtual discussion co-sponsored by HAWC\, The Women’s Bar Association of Massachusetts\, and The Essex County Commission on the Status of Women on Nov. 4 via Zoom. Our panelists will discuss three bills: “Protected At Work\,” Common Start\,” and “Safe Communities\,” and how they would have a positive impact on survivors of domestic abuse seeking to increase their financial independence and safety. Together\, we have the ability to move beyond band-aids and crisis intervention. Join us to learn how these pending bills can truly empower survivors to rebuild their lives. RSVP to saras@hawcdv.org to participate!
URL:https://www.janedoe.org/event/hawc-virtual-policy-panel/
LOCATION:Virtual
ATTACH;FMTTYPE=image/png:https://www.janedoe.org/wp-content/uploads/Copy-of-Policy-Panel-_5_.png
END:VEVENT
BEGIN:VEVENT
DTSTART;TZID=America/New_York:20211103T173000
DTEND;TZID=America/New_York:20211103T193000
DTSTAMP:20260420T150913
CREATED:20211027T223354Z
LAST-MODIFIED:20211027T223354Z
UID:36136-1635960600-1635967800@www.janedoe.org
SUMMARY:Transition House Domestic Violence Vigil
DESCRIPTION:
URL:https://www.janedoe.org/event/transition-house-domestic-violence-vigil/
LOCATION:Cambridge City Hall\, 795 Massachusetts Ave\, Cambridge\, MA\, 02139\, United States
ATTACH;FMTTYPE=image/png:https://www.janedoe.org/wp-content/uploads/DV-Vigil-_3_.png
END:VEVENT
BEGIN:VEVENT
DTSTART;TZID=America/New_York:20211031T100000
DTEND;TZID=America/New_York:20211031T120000
DTSTAMP:20260420T150913
CREATED:20211012T173425Z
LAST-MODIFIED:20211012T174047Z
UID:35937-1635674400-1635681600@www.janedoe.org
SUMMARY:Hike\, Hope\, Heal Finale Celebration & Halloween Family Funday!
DESCRIPTION:Join The Center for Hope and Healing for a final day of hikes\, celebrate our season’s top hikers\, and have Halloween family fun! They will have music\, food\, games\, family-friendly bike rides\, mystery-solving hike and so much more! Here is some information about the event.\n\n\nHike\, Hope\, Heal Celebration & Halloween Family Funday Program/Agenda\n\n10 am Start: Rail-Trail Bike-Hikes\n11 am-1 pm: Family Day Main Event\n12:00 pm: Family Mystery Hike\n\nPasses/Tickets\nThe passes for the event are $20 for Family Fun and $25 For New Hikers. Buy an event pass\, register to hike\, and find more information here: bit.ly/CHHHalloweenFamilyFunday\nWhere\n\nHike/Biking Trails: Bruce Freeman Rail Trail Chelmsford Street Lowell\, MA 01851\nFamily Day Main Event and Family Mystery Hike: NARA Park\, 25 Ledge Rock Way Acton\, MA 01720\n\nFor more information\, reach out to Dimitrios Booras\, Development Manager\, dimitrios@chhinc.org\, or (978) 452-7721.
URL:https://www.janedoe.org/event/hike-hope-heal-finale-celebration-halloween-family-funday/
LOCATION:Multiple
CATEGORIES:Community Events
ATTACH;FMTTYPE=image/jpeg:https://www.janedoe.org/wp-content/uploads/Halloween-Family-Funday_CHH_October-2021_page-0001.jpg
END:VEVENT
BEGIN:VEVENT
DTSTART;TZID=America/New_York:20211029T180000
DTEND;TZID=America/New_York:20211029T213000
DTSTAMP:20260420T150913
CREATED:20211001T132740Z
LAST-MODIFIED:20211001T133045Z
UID:35660-1635530400-1635543000@www.janedoe.org
SUMMARY:Support DOVE at Harvesting Hope 2021
DESCRIPTION:Join us for an evening featuring dinner\, auctions\, and an inspiring program! Your support matters and saves lives. \nHarvesting Hope is DOVE’s annual fall gala raising essential funds to support DOVE’s vital services for survivors and prevention efforts against domestic violence.  \nLearn more at dovema.org/harvesting-hope
URL:https://www.janedoe.org/event/support-dove-at-harvesting-hope-2021/
LOCATION:Marriott Boston in Quincy\, 1000 Marriott Drive\, Quincy\, MA\, 02169\, United States
CATEGORIES:Community Events
ATTACH;FMTTYPE=image/jpeg:https://www.janedoe.org/wp-content/uploads/Dove-Hope.jpg
END:VEVENT
BEGIN:VEVENT
DTSTART;TZID=America/New_York:20211028T190000
DTEND;TZID=America/New_York:20211028T203000
DTSTAMP:20260420T150913
CREATED:20211001T155125Z
LAST-MODIFIED:20211012T151210Z
UID:35747-1635447600-1635453000@www.janedoe.org
SUMMARY:The New Frontier—Advocating for Healthy Relationship Education in the Classroom: How Do We Get There?
DESCRIPTION:Join the MetroWest Commission on the Status of Women for their fourth and final event for Domestic Violence Awareness Month. Educators\, School Staff and Administrators are invited to join a round-table discussion about the programs that their respective schools offer\, best practices\, the obstacles to providing effective healthy relationship education and upstander training\, as well as what schools need to make said curriculum not only accessible but meaningful to all students. \nFree registration here
URL:https://www.janedoe.org/event/35747/
LOCATION:Virtual
CATEGORIES:Community Events
ATTACH;FMTTYPE=image/jpeg:https://www.janedoe.org/wp-content/uploads/events/DVAM_2021/MetroWest-Commission.jpg
END:VEVENT
BEGIN:VEVENT
DTSTART;TZID=America/New_York:20211028T180000
DTEND;TZID=America/New_York:20211028T190000
DTSTAMP:20260420T150913
CREATED:20211019T132337Z
LAST-MODIFIED:20211019T132337Z
UID:36001-1635444000-1635447600@www.janedoe.org
SUMMARY:2021 Shining Star Gala VRLC Virtual Program
DESCRIPTION:The Victim Rights Law Center will be honoring their incredible awardees and their wide-reaching advocacy on October 28th. \nRegister here
URL:https://www.janedoe.org/event/2021-shining-star-gala-vrlc-virtual-program/
LOCATION:Virtual
CATEGORIES:Community Events
ATTACH;FMTTYPE=image/jpeg:https://www.janedoe.org/wp-content/uploads/shining-star-logo-01.jpg
END:VEVENT
BEGIN:VEVENT
DTSTART;TZID=America/New_York:20211028T180000
DTEND;TZID=America/New_York:20211028T190000
DTSTAMP:20260420T150913
CREATED:20211012T174547Z
LAST-MODIFIED:20211012T174547Z
UID:35944-1635444000-1635447600@www.janedoe.org
SUMMARY:Silence Hides Violence Virtual Vigil
DESCRIPTION:Join Safe Havens in honoring those lost to domestic violence while celebrating those who have survived. \nJoin the online vigil here
URL:https://www.janedoe.org/event/silence-hides-violence-virtual-vigil/
LOCATION:Virtual
CATEGORIES:Community Events
ATTACH;FMTTYPE=image/png:https://www.janedoe.org/wp-content/uploads/Pasted-Graphic-12.png
END:VEVENT
BEGIN:VEVENT
DTSTART;TZID=America/New_York:20211028T130000
DTEND;TZID=America/New_York:20211029T153000
DTSTAMP:20260420T150913
CREATED:20211025T213045Z
LAST-MODIFIED:20211026T163801Z
UID:36093-1635426000-1635521400@www.janedoe.org
SUMMARY:National Prevention Town Hall (NRCVD virtual)
DESCRIPTION:The National Resource Center on Domestic Violence\, in collaboration with partners from across the Southern region of the United States\, invites you to join us for our second virtual Prevention Town Hall. This event is an opportunity to dig deeper into this year’s theme for Domestic Violence Awareness Month: No Survivor Justice Without Racial Justice. \nThe 2021 Prevention Town Hall will be held over two days: \nThursday\, October 28 & Friday\, October 29\n1-3:30pm ET / 12-2:30pm CT / 10-12:30pm PT \nBuilding on the momentum from last year’s Prevention Town Hall featuring the East North Central region of the United States\, this year’s event will explore prevention strategies that center the most marginalized survivors\, uplift grassroots and community-based organizing\, honor the leadership of survivors and advocates who are Black\, Indigenous\, and People of Color\, and promote real transformative change that centers racial justice in our agencies. \n**This event will be offered in English with Spanish & ASL interpretation and closed captions.** \nRegister here
URL:https://www.janedoe.org/event/36093/
LOCATION:Virtual
CATEGORIES:Community Events
ATTACH;FMTTYPE=image/png:https://www.janedoe.org/wp-content/uploads/19928f05-356f-26af-1127-5925598b3611.png
END:VEVENT
BEGIN:VEVENT
DTSTART;TZID=America/New_York:20211028T093000
DTEND;TZID=America/New_York:20211029T163000
DTSTAMP:20260420T150913
CREATED:20211001T152332Z
LAST-MODIFIED:20211004T153355Z
UID:35737-1635413400-1635525000@www.janedoe.org
SUMMARY:Beyond Survivors and Abusers: Reframing Domestic Violence
DESCRIPTION:Hosted by the Transition House and the City of Cambridge Domestic and Gender Based Violence Prevention Initiative.  \nOctober 28th\, 2021 from 9:30am-4:30pm and October 29th\, 2021 9:30am-1:30pm \nMore info soon.
URL:https://www.janedoe.org/event/beyond-survivors-and-abusers-reframing-domestic-violence/
LOCATION:MA
CATEGORIES:Community Events
END:VEVENT
BEGIN:VEVENT
DTSTART;TZID=America/New_York:20211027T180000
DTEND;TZID=America/New_York:20211027T200000
DTSTAMP:20260420T150913
CREATED:20211004T161013Z
LAST-MODIFIED:20211004T164557Z
UID:35823-1635357600-1635364800@www.janedoe.org
SUMMARY:Bystander Intervention Workshop
DESCRIPTION:Pop Culture Edition! What would you do if you saw a family member or friend being mistreated by their significant other? Would you step in or walk away? What is the right thing to do\, and what is safest for you and for them? Join us as we use popular TV shows and movies to dive head-first into these situations and explore possible actions and outcomes. Register at http://ywcacm.org/dvam. 
URL:https://www.janedoe.org/event/bystander-intervention-workshop/
LOCATION:Virtual
CATEGORIES:Community Events
END:VEVENT
BEGIN:VEVENT
DTSTART;TZID=America/New_York:20211027T170000
DTEND;TZID=America/New_York:20211027T203000
DTSTAMP:20260420T150914
CREATED:20211006T124021Z
LAST-MODIFIED:20211006T130359Z
UID:35858-1635354000-1635366600@www.janedoe.org
SUMMARY:DOVE Sexual Assault and Human Trafficking Training
DESCRIPTION:Online Virtual Session \nSexual Assault Training runs from 5pm to 6:30pm and Human Trafficking Training runs from 6:45pm to 8:30pm \nRegister Online Here
URL:https://www.janedoe.org/event/dove-sexual-assault-and-human-trafficking/
LOCATION:Virtual
CATEGORIES:Community Events
END:VEVENT
BEGIN:VEVENT
DTSTART;TZID=America/New_York:20211027T083000
DTEND;TZID=America/New_York:20211027T100000
DTSTAMP:20260420T150914
CREATED:20211008T112725Z
LAST-MODIFIED:20211008T112725Z
UID:35889-1635323400-1635328800@www.janedoe.org
SUMMARY:Purple Purse & Purple Tie Awards Breakfast
DESCRIPTION:Show your support at this event dedicated to five community leaders and their incredible work supporting survivors of domestic violence.
URL:https://www.janedoe.org/event/purple-purse-purple-tie-awards-breakfast/
LOCATION:Mockingbird Restaurant\, 838 North Bedford St\, East Bridgewater\, MA\, 02333\, United States
CATEGORIES:Community Events
ATTACH;FMTTYPE=image/png:https://www.janedoe.org/wp-content/uploads/CC-EMAIL-10-07-21-_2_.png
END:VEVENT
BEGIN:VEVENT
DTSTART;TZID=America/New_York:20211026T183000
DTEND;TZID=America/New_York:20211026T203000
DTSTAMP:20260420T150914
CREATED:20211001T132703Z
LAST-MODIFIED:20211001T141829Z
UID:35657-1635273000-1635280200@www.janedoe.org
SUMMARY:Soothing Stones to support you during challenging moments
DESCRIPTION:The Wayside Trauma Intervention Services is hosting a Virtual Event on Tuesday\, October 26th from 6:30pm-8:30pm in which participants will craft Soothing Stones to support them. Be sure to pick up crafting supplies from their Milford Office or their satellite locations: Dean College and SAFE Coalition. \nJoin the Zoom Meeting here
URL:https://www.janedoe.org/event/soothing-stones-to-support-you-during-challenging-moments/
LOCATION:Virtual
CATEGORIES:Community Events
END:VEVENT
BEGIN:VEVENT
DTSTART;TZID=America/New_York:20211026T183000
DTEND;TZID=America/New_York:20211026T193000
DTSTAMP:20260420T150914
CREATED:20211001T145222Z
LAST-MODIFIED:20211001T145222Z
UID:35723-1635273000-1635276600@www.janedoe.org
SUMMARY:MAPS Annual Meeting
DESCRIPTION:Join the Massachusetts Alliance of Portuguese Speakers annual meeting virtually on Tuesday\, October 26th\, 2021\, from 6:30pm-7:30pm to learn more about the successes and challenges of the past year. \nMore information will be available soon.
URL:https://www.janedoe.org/event/maps-annual-meeting/
LOCATION:Virtual
CATEGORIES:Community Events
END:VEVENT
BEGIN:VEVENT
DTSTART;TZID=America/New_York:20211026T180000
DTEND;TZID=America/New_York:20211026T190000
DTSTAMP:20260420T150914
CREATED:20211007T130550Z
LAST-MODIFIED:20211007T130550Z
UID:35879-1635271200-1635274800@www.janedoe.org
SUMMARY:City of Somerville Domestic Violence Vigil
DESCRIPTION:Join Mayor Joseph Curtatone\, the Somerville Commission for Women\, and RESPOND in remembering those who have lost their lives in 2021 to Domestic Violence.
URL:https://www.janedoe.org/event/city-of-somerville-domestic-violence-vigil/
LOCATION:Statue Park\, Davis Square\, 279 Alewife Linear Park/Somerville Community Path\, Somerville\, MA\, 02144\, United States
CATEGORIES:Community Events
ATTACH;FMTTYPE=image/png:https://www.janedoe.org/wp-content/uploads/City-of-Somerville_DV-Vigil-Flyer-2021.png
END:VEVENT
BEGIN:VEVENT
DTSTART;TZID=America/New_York:20211025T170000
DTEND;TZID=America/New_York:20211025T203000
DTSTAMP:20260420T150914
CREATED:20211006T123913Z
LAST-MODIFIED:20211006T130404Z
UID:35856-1635181200-1635193800@www.janedoe.org
SUMMARY:DOVE Working with Survivors w Mental Health/Substance Abuse issues
DESCRIPTION:Online Virtual Session \nWorking with Survivors w Mental Health Issues runs from 5pm to 6:30pm and Working with Survivors with Substance Abuse Issues runs from 6:45pm to 8:30pm \nRegister Online Here
URL:https://www.janedoe.org/event/dove-working-with-survivors-w-mental-health-substance-abuse-issues/
LOCATION:Virtual
CATEGORIES:Community Events
END:VEVENT
BEGIN:VEVENT
DTSTART;TZID=America/New_York:20211025T080000
DTEND;TZID=America/New_York:20211025T090000
DTSTAMP:20260420T150914
CREATED:20211004T160912Z
LAST-MODIFIED:20211004T164601Z
UID:35820-1635148800-1635152400@www.janedoe.org
SUMMARY:Daybreak Breakfast
DESCRIPTION:The Daybreak Breakfast is designed to educate\, motivate and inspire people to build safe communities by raising awareness of domestic violence\, supporting survivors and promoting healthy relationships. To learn more and register\, CLICK HERE. 
URL:https://www.janedoe.org/event/daybreak-breakfast/
LOCATION:College of Holy Cross\, 1 College St\, Worcester\, MA\, 01610\, United States
CATEGORIES:Community Events
END:VEVENT
BEGIN:VEVENT
DTSTART;TZID=America/New_York:20211024T160000
DTEND;TZID=America/New_York:20211024T180000
DTSTAMP:20260420T150914
CREATED:20211022T214403Z
LAST-MODIFIED:20211022T214403Z
UID:36022-1635091200-1635098400@www.janedoe.org
SUMMARY:Melrose Alliance Against Violence 26th Annual Walk & Candlelight Vigil
DESCRIPTION:MAAV’s Walk will raise awareness about domestic violence and the funds necessary to continue MAAV’s programs and services. To help us raise those funds\, businesses\, community organizations and families can serve as event sponsors. To learn about sponsorship levels and benefits\, click here. To see the list of 2021 Walk Sponsors\, click here.
URL:https://www.janedoe.org/event/melrose-alliance-against-violence-26th-annual-walk-candlelight-vigil/
LOCATION:Memorial Middle School\, 350 Lynn Fells Parkway\, Melrose\, MA\, United States
CATEGORIES:Community Events
ATTACH;FMTTYPE=image/png:https://www.janedoe.org/wp-content/uploads/Walk-With-Us-on-Sunday.png
END:VEVENT
BEGIN:VEVENT
DTSTART;TZID=America/New_York:20211024T140000
DTEND;TZID=America/New_York:20211024T153000
DTSTAMP:20260420T150914
CREATED:20211001T134617Z
LAST-MODIFIED:20211001T144017Z
UID:35677-1635084000-1635089400@www.janedoe.org
SUMMARY:Expressive Arts Workshop for Survivors of Domestic Violence
DESCRIPTION:The Survivor Leadership Collective hosted by the Center for Violence Prevention and Recovery at Beth Israel Deaconess Medical Center presents a FREE virtual arts workshop for survivors of domestic violence. “We May Bend\, but We Will Not Break\,” will take place on Zoom on October 24\, 2021 from 2-3:30pm.  \nPlease RSVP by Oct 15th with Chelsea at cdavies@bidmc.harvard.edu or 617-667-1040. Link and clay will be provided with RSVP.
URL:https://www.janedoe.org/event/expressive-arts-workshop-for-survivors-of-domestic-violence/
LOCATION:MA
CATEGORIES:Community Events
ATTACH;FMTTYPE=image/png:https://www.janedoe.org/wp-content/uploads/events/DVAM_2021/thumbnail_image.png
ORGANIZER;CN="Survivor Leadership Collective":MAILTO:slchealing@gmail.com
END:VEVENT
BEGIN:VEVENT
DTSTART;TZID=America/New_York:20211023T150000
DTEND;TZID=America/New_York:20211023T170000
DTSTAMP:20260420T150914
CREATED:20211004T153856Z
LAST-MODIFIED:20211004T164607Z
UID:35783-1635001200-1635008400@www.janedoe.org
SUMMARY:Discussion about Domestic Violence with MAPS
DESCRIPTION:On October 23rd\, 2021 at 3pm at the Cape Verdean Association of Brockton\, join the Massachusetts Alliance of Portuguese Speakers in their deep discussion of Domestic Violence.
URL:https://www.janedoe.org/event/discussion-about-domestic-violence-with-maps/
LOCATION:Cape Verdean Association of Brockton\, 575 N Montello St\, Brockton\, MA\, 02301\, United States
CATEGORIES:Community Events
END:VEVENT
BEGIN:VEVENT
DTSTART;TZID=America/New_York:20211023T110000
DTEND;TZID=America/New_York:20211023T130000
DTSTAMP:20260420T150914
CREATED:20211015T124410Z
LAST-MODIFIED:20211015T124410Z
UID:35983-1634986800-1634994000@www.janedoe.org
SUMMARY:Alianza Take A Stand Against Domestic Violence
DESCRIPTION:Enjoy an outdoor celebration with Alianza as they commemorate their first recipient of the Allies in Action award\, Sheila Rivest. Family-friendly with refreshments provided.
URL:https://www.janedoe.org/event/alianza-take-a-stand-against-domestic-violence/
LOCATION:208 Race St\, 208 Race St\, Holyoke\, MA\, 01041\, United States
CATEGORIES:Community Events
ATTACH;FMTTYPE=image/png:https://www.janedoe.org/wp-content/uploads/Postcard.png
END:VEVENT
BEGIN:VEVENT
DTSTART;TZID=America/New_York:20211023T100000
DTEND;TZID=America/New_York:20211023T130000
DTSTAMP:20260420T150914
CREATED:20211001T220051Z
LAST-MODIFIED:20211001T220051Z
UID:35774-1634983200-1634994000@www.janedoe.org
SUMMARY:Saheli's Walk 5K in Her Shoes
DESCRIPTION:
URL:https://www.janedoe.org/event/sahelis-walk-5k-in-her-shoes/
LOCATION:Burlington Town Common
CATEGORIES:Community Events
ATTACH;FMTTYPE=image/jpeg:https://www.janedoe.org/wp-content/uploads/events/DVAM_2021/Saheli_5K_Sept2021-scaled.jpg
ORGANIZER;CN="Saheli":MAILTO:info@saheliboston.org
END:VEVENT
BEGIN:VEVENT
DTSTART;TZID=America/New_York:20211022T180000
DTEND;TZID=America/New_York:20211022T200000
DTSTAMP:20260420T150914
CREATED:20211004T160743Z
LAST-MODIFIED:20211004T164611Z
UID:35818-1634925600-1634932800@www.janedoe.org
SUMMARY:Trauma-Informed Yoga with YWCA
DESCRIPTION:This beginner class does not focus on technique\, rather on being present\, exploring emotions\, and building a stronger mind-body connection. This practice focuses on using the power of your body and strives to create a safe space through hands-off classes\, low or no music\, and a soft\, calming environment. Register at http://ywcacm.org/dvam 
URL:https://www.janedoe.org/event/trauma-informed-yoga-with-ywca/
LOCATION:YWCA Salem Square Facility\, 1 Salem St\, Worcester\, MA\, 01608\, United States
CATEGORIES:Community Events
END:VEVENT
BEGIN:VEVENT
DTSTART;TZID=America/New_York:20211022T150000
DTEND;TZID=America/New_York:20211022T170000
DTSTAMP:20260420T150914
CREATED:20211012T160548Z
LAST-MODIFIED:20211012T160548Z
UID:35919-1634914800-1634922000@www.janedoe.org
SUMMARY:Center for Hope and Healing: Youth Fall Back Fair
DESCRIPTION:On October 22 from 3pm to 5pm the CHH parking lot at 21 George St will turn into a fall resource fair for youth with food\, music\, PPE\, swag\, treats\, back to school resources and so much many fun activities for youth to fall back and hang out!\n\n\nWhere: 21 George St\, Lowell\, MA 01852
URL:https://www.janedoe.org/event/center-for-hope-and-healing-youth-fall-back-fair/
LOCATION:CHH Parking Lot\, 21 George St\, Lowell\, MA\, 01852\, United States
ATTACH;FMTTYPE=image/jpeg:https://www.janedoe.org/wp-content/uploads/244744085_10159283811715499_8622262949538759017_n.jpg
END:VEVENT
BEGIN:VEVENT
DTSTART;TZID=America/New_York:20211022T110000
DTEND;TZID=America/New_York:20211022T130000
DTSTAMP:20260420T150914
CREATED:20211006T130643Z
LAST-MODIFIED:20211006T130643Z
UID:35873-1634900400-1634907600@www.janedoe.org
SUMMARY:Strengths in Decision Making Workshop
DESCRIPTION:Learn how your innate strengths mitigate stress and navigate self and team decisions. Key Takeaways: Determine how to use your top 5 strengths to increase self-empathy; Capitalize on your strengths in your organization.
URL:https://www.janedoe.org/event/strengths-in-decision-making-workshop/
LOCATION:Virtual
CATEGORIES:Community Events
ATTACH;FMTTYPE=image/png:https://www.janedoe.org/wp-content/uploads/RAFT-Workshops-Flyer.png
END:VEVENT
BEGIN:VEVENT
DTSTART;TZID=America/New_York:20211021T190000
DTEND;TZID=America/New_York:20211021T203000
DTSTAMP:20260420T150914
CREATED:20211001T154639Z
LAST-MODIFIED:20211012T152354Z
UID:35744-1634842800-1634848200@www.janedoe.org
SUMMARY:But is it Love? Teens Discuss the Crisis of Interpersonal Violence and What THEY Need
DESCRIPTION:Join the MetroWest Commission on the Status of Women for their third event for Domestic Violence Awareness Month. A Teen-Only Listening Circle\, hosted by the MWCSW’s Athena Council. Students are invited to come and discuss what they ALREADY know\, what they WISH THEY knew\, and what they NEED with regard to interpersonal violence education\, upstander training and healthy relationship education. \nFree registration here
URL:https://www.janedoe.org/event/ut-is-it-love-teens-discuss-the-crisis-of-interpersonal-violence-and-what-they-need/
LOCATION:Virtual
CATEGORIES:Community Events
ATTACH;FMTTYPE=image/png:https://www.janedoe.org/wp-content/uploads/Teen-Listening-Circle-1.png
END:VEVENT
BEGIN:VEVENT
DTSTART;TZID=America/New_York:20211021T173000
DTEND;TZID=America/New_York:20211021T190000
DTSTAMP:20260420T150914
CREATED:20211001T210449Z
LAST-MODIFIED:20211001T211041Z
UID:35764-1634837400-1634842800@www.janedoe.org
SUMMARY:Break the Silence: A night for hope and healing
DESCRIPTION:
URL:https://www.janedoe.org/event/break-the-silence-a-night-for-hope-and-healing/
LOCATION:Waltham Common\, 610 Main Street\, Waltham\, MA\, 02452\, United States
CATEGORIES:Community Events
ATTACH;FMTTYPE=image/jpeg:https://www.janedoe.org/wp-content/uploads/events/DVAM_2021/BTS_vigil_waltham_2021.jpg
END:VEVENT
BEGIN:VEVENT
DTSTART;TZID=America/New_York:20211021T170000
DTEND;TZID=America/New_York:20211021T190000
DTSTAMP:20260420T150914
CREATED:20211001T153254Z
LAST-MODIFIED:20211001T211130Z
UID:35739-1634835600-1634842800@www.janedoe.org
SUMMARY:DVAM Vigil at Plains Park
DESCRIPTION:Join the Wayside Trauma Intervention Services in a night to honor those lost to Domestic Violence\, heal\, and build community. Meet at Plains Park on Thursday\, October 21st from 5pm-7pm.
URL:https://www.janedoe.org/event/dvam-vigil-at-plains-park/
LOCATION:Plains Park\, 90 Cedar St\, Milford\, MA\, 01757\, United States
CATEGORIES:Community Events
END:VEVENT
END:VCALENDAR