BEGIN:VCALENDAR
VERSION:2.0
PRODID:-//JDI - ECPv6.15.20//NONSGML v1.0//EN
CALSCALE:GREGORIAN
METHOD:PUBLISH
X-ORIGINAL-URL:https://www.janedoe.org
X-WR-CALDESC:Events for JDI
REFRESH-INTERVAL;VALUE=DURATION:PT1H
X-Robots-Tag:noindex
X-PUBLISHED-TTL:PT1H
BEGIN:VTIMEZONE
TZID:America/New_York
BEGIN:DAYLIGHT
TZOFFSETFROM:-0500
TZOFFSETTO:-0400
TZNAME:EDT
DTSTART:20220313T070000
END:DAYLIGHT
BEGIN:STANDARD
TZOFFSETFROM:-0400
TZOFFSETTO:-0500
TZNAME:EST
DTSTART:20221106T060000
END:STANDARD
BEGIN:DAYLIGHT
TZOFFSETFROM:-0500
TZOFFSETTO:-0400
TZNAME:EDT
DTSTART:20230312T070000
END:DAYLIGHT
BEGIN:STANDARD
TZOFFSETFROM:-0400
TZOFFSETTO:-0500
TZNAME:EST
DTSTART:20231105T060000
END:STANDARD
BEGIN:DAYLIGHT
TZOFFSETFROM:-0500
TZOFFSETTO:-0400
TZNAME:EDT
DTSTART:20240310T070000
END:DAYLIGHT
BEGIN:STANDARD
TZOFFSETFROM:-0400
TZOFFSETTO:-0500
TZNAME:EST
DTSTART:20241103T060000
END:STANDARD
END:VTIMEZONE
BEGIN:VEVENT
DTSTART;TZID=America/New_York:20230301T130000
DTEND;TZID=America/New_York:20230301T140000
DTSTAMP:20260420T162224
CREATED:20230208T213335Z
LAST-MODIFIED:20230221T203252Z
UID:38254-1677675600-1677679200@www.janedoe.org
SUMMARY:WRD 2023:  Melrose Alliance Against Violence
DESCRIPTION:Melrose White Ribbon Day
URL:https://www.janedoe.org/event/wrd-2023-melrose-alliance-against-violence/
LOCATION:Melrose City Hall\, 562 Main St\, Melrose\, MA\, 02176\, United States
ATTACH;FMTTYPE=image/png:https://www.janedoe.org/wp-content/uploads/Screenshot-54.png
END:VEVENT
BEGIN:VEVENT
DTSTART;TZID=America/New_York:20230307T180000
DTEND;TZID=America/New_York:20230307T193000
DTSTAMP:20260420T162224
CREATED:20230208T221110Z
LAST-MODIFIED:20230221T221134Z
UID:38272-1678212000-1678217400@www.janedoe.org
SUMMARY:WRD 2023:  Independence House Cape Cod White Ribbon Day
DESCRIPTION:
URL:https://www.janedoe.org/event/wrd-2023-independence-house-cape-cod-white-ribbon-day/
LOCATION:Wellfleet Public Library
ATTACH;FMTTYPE=image/jpeg:https://www.janedoe.org/wp-content/uploads/IndependenceHouse_WRD_2023_4events.jpg
END:VEVENT
BEGIN:VEVENT
DTSTART;TZID=America/New_York:20230314T180000
DTEND;TZID=America/New_York:20230314T193000
DTSTAMP:20260420T162224
CREATED:20230208T221919Z
LAST-MODIFIED:20230208T221919Z
UID:38276-1678816800-1678822200@www.janedoe.org
SUMMARY:WRD 2023: Independence House Cape Cod White Ribbon Day in Falmouth
DESCRIPTION:
URL:https://www.janedoe.org/event/wrd-2023-independence-house-cape-cod-white-ribbon-day-in-falmouth/
LOCATION:Falmouth Public Library
ATTACH;FMTTYPE=image/jpeg:https://www.janedoe.org/wp-content/uploads/CAPE-COD-WRD-2023.jpg
END:VEVENT
BEGIN:VEVENT
DTSTART;TZID=America/New_York:20230315T120000
DTEND;TZID=America/New_York:20230315T120000
DTSTAMP:20260420T162224
CREATED:20230313T033532Z
LAST-MODIFIED:20230313T033532Z
UID:38435-1678881600-1678881600@www.janedoe.org
SUMMARY:Take the White Ribbon Day pledge with A Safe Place!
DESCRIPTION:Join a Safe Place and Nantucket’s first responders and take the White Ribbon Day pledge!
URL:https://www.janedoe.org/event/take-the-white-ribbon-day-pledge-with-a-safe-place/
LOCATION:Nantucket Police Headquarters\, 4 Fairgrounds Road\, Nantucket\, Massachusetts\, 02554
END:VEVENT
BEGIN:VEVENT
DTSTART;TZID=America/New_York:20230315T140000
DTEND;TZID=America/New_York:20230315T140000
DTSTAMP:20260420T162224
CREATED:20230313T032906Z
LAST-MODIFIED:20230313T032906Z
UID:38431-1678888800-1678888800@www.janedoe.org
SUMMARY:Wakefield's White Ribbon Day Ceremony
DESCRIPTION:WAAV WRD
URL:https://www.janedoe.org/event/wakefields-white-ribbon-day-ceremony/
LOCATION:Beebe Library Plaza\, 345 Main St\, Wakefield\, Massachusetts\, 01880
END:VEVENT
BEGIN:VEVENT
DTSTART;TZID=America/New_York:20230316T163000
DTEND;TZID=America/New_York:20230316T163000
DTSTAMP:20260420T162224
CREATED:20230313T031142Z
LAST-MODIFIED:20230313T031142Z
UID:38413-1678984200-1678984200@www.janedoe.org
SUMMARY:White Ribbon Campaign Day Flag Raising
DESCRIPTION:
URL:https://www.janedoe.org/event/white-ribbon-campaign-day-flag-raising/
LOCATION:Campagnone Common\, 200 Common Street\, Lawrence\, Massachussetts\, 01840
END:VEVENT
BEGIN:VEVENT
DTSTART;TZID=America/New_York:20230320T100000
DTEND;TZID=America/New_York:20230320T100000
DTSTAMP:20260420T162224
CREATED:20230313T031525Z
LAST-MODIFIED:20230313T032337Z
UID:38420-1679306400-1679306400@www.janedoe.org
SUMMARY:Join the YWCA for our White Ribbon Campaign Day Flag Raising
DESCRIPTION:Haverhill WRD3.20
URL:https://www.janedoe.org/event/join-the-ywca-for-our-white-ribbon-campaign-day-flag-raising/
LOCATION:Haverhill City Hall\, 4 Summer Street\, Haverhill\, Massachusetts\, 01830
END:VEVENT
BEGIN:VEVENT
DTSTART;TZID=America/New_York:20230320T190000
DTEND;TZID=America/New_York:20230320T201500
DTSTAMP:20260420T162224
CREATED:20230209T154319Z
LAST-MODIFIED:20230209T154319Z
UID:38309-1679338800-1679343300@www.janedoe.org
SUMMARY:WRD 2023:  DV Roundtable of Lincoln\, Sudbury and Wayland and REACH "Watching Dad"
DESCRIPTION:
URL:https://www.janedoe.org/event/wrd-2023-dv-roundtable-of-lincoln-sudbury-and-wayland-and-reach-watching-dad/
LOCATION:Goodnow Library\, 21 Concord Rd\, Sudbury\, MA\, 01776
ATTACH;FMTTYPE=image/jpeg:https://www.janedoe.org/wp-content/uploads/community/WRD2023_watchingdad-scaled.jpg
END:VEVENT
BEGIN:VEVENT
DTSTART;TZID=America/New_York:20230321T180000
DTEND;TZID=America/New_York:20230321T193000
DTSTAMP:20260420T162224
CREATED:20230208T222044Z
LAST-MODIFIED:20230208T222116Z
UID:38278-1679421600-1679427000@www.janedoe.org
SUMMARY:WRD 2023: Independence Day Cape Cod White Ribbon Day - South Yarmouth
DESCRIPTION:
URL:https://www.janedoe.org/event/wrd-2023-independence-day-cape-cod-white-ribbon-day-south-yarmout/
LOCATION:Cultural Center of Cape Cod
ATTACH;FMTTYPE=image/jpeg:https://www.janedoe.org/wp-content/uploads/CAPE-COD-WRD-2023.jpg
END:VEVENT
BEGIN:VEVENT
DTSTART;TZID=America/New_York:20230323T110000
DTEND;TZID=America/New_York:20230323T170000
DTSTAMP:20260420T162224
CREATED:20230313T032102Z
LAST-MODIFIED:20230313T032213Z
UID:38422-1679569200-1679590800@www.janedoe.org
SUMMARY:Mini Conference on Healthy Masculinity\, Socialization\, and the Need for Community
DESCRIPTION:You are invited to CHH’s Men Reducing Violence program’s Mini-Conference on Healthy Masculinity\, Socialization\, and the Need for Community!  \nWe not only have great keynote speakers for this mini-conference to discuss the socialization we all face in regard to masculinity\, we also have great swag\, and it is virtual.
URL:https://www.janedoe.org/event/mini-conference-on-healthy-masculinity-socialization-and-the-need-for-community/
LOCATION:Virtual
END:VEVENT
BEGIN:VEVENT
DTSTART;TZID=America/New_York:20230329T140000
DTEND;TZID=America/New_York:20230329T150000
DTSTAMP:20260420T162224
CREATED:20230208T222315Z
LAST-MODIFIED:20230208T222338Z
UID:38281-1680098400-1680102000@www.janedoe.org
SUMMARY:WRD 2023: Independence House Cape Cod White Ribbon Day - CC Community College
DESCRIPTION:
URL:https://www.janedoe.org/event/wrd-2023-independence-house-cape-cod-white-ribbon-day-cc-community-college/
LOCATION:Cape Cod Community College
ATTACH;FMTTYPE=image/jpeg:https://www.janedoe.org/wp-content/uploads/CAPE-COD-WRD-2023.jpg
END:VEVENT
BEGIN:VEVENT
DTSTART;TZID=America/New_York:20230330T180000
DTEND;TZID=America/New_York:20230330T220000
DTSTAMP:20260420T162224
CREATED:20230208T213014Z
LAST-MODIFIED:20230208T221152Z
UID:38250-1680199200-1680213600@www.janedoe.org
SUMMARY:WRD 2023:  Jeanne Geiger Crisis Center\, Pledge for Change
DESCRIPTION:
URL:https://www.janedoe.org/event/wrd-jeanne-geiger-crisis-center-pledge-for-change/
LOCATION:Andover Country Club\, 60 Canterbury Street\, Andover\, MA\, 01810
ATTACH;FMTTYPE=image/jpeg:https://www.janedoe.org/wp-content/uploads/JGCC_WhiteRibbon_2023.jpg
END:VEVENT
END:VCALENDAR